BEGIN:VCALENDAR
VERSION:2.0
PRODID:-//ChamberMaster//Event Calendar 2.0//EN
METHOD:PUBLISH
X-PUBLISHED-TTL:P3D
REFRESH-INTERVAL:P3D
CALSCALE:GREGORIAN
BEGIN:VEVENT
DTSTART;VALUE=DATE:20141014
DTEND;VALUE=DATE:20141025
TRANSP:TRANSPARENT
X-MICROSOFT-CDO-ALLDAYEVENT:TRUE
SUMMARY:Celebrate My Drive
DESCRIPTION:Celebrate My Drive is an event to teach students about the dangers of distracted and impaired driving. All schools that participate in the event have an opportunity to win a $25\,000 or $100\,000 grant for their high school! To win the grant\, the school must have the highest number of pledges from 10/14 - 10/27. You can take the pledge DAILY by visiting www.celebratemydrive.com daily from 10/14 - 10/27. (you can vote once/email/day) Please help us support DeWitt Central High School!
X-ALT-DESC;FMTTYPE=text/html:Celebrate My Drive is an event to teach students about the dangers of distracted and impaired driving. All schools that participate in the event have an opportunity to win a $25\,000 or $100\,000 grant for their high school! To win the grant\, the school must have the highest number of pledges from 10/14 - 10/27. You can take the pledge DAILY by visiting www.celebratemydrive.com daily from 10/14 - 10/27. (you can vote once/email/day) Please help us support DeWitt Central High School!
LOCATION:DeWitt Central High School 331 E. 8th St\, DeWitt\, IA
UID:e.1774.144
SEQUENCE:3
DTSTAMP:20260421T203840Z
URL:https://business.dewittiowa.org/events/details/celebrate-my-drive-10-14-2014-144
END:VEVENT

END:VCALENDAR
