BEGIN:VCALENDAR
VERSION:2.0
PRODID:-//ChamberMaster//Event Calendar 2.0//EN
METHOD:PUBLISH
X-PUBLISHED-TTL:P3D
REFRESH-INTERVAL:P3D
CALSCALE:GREGORIAN
BEGIN:VEVENT
DTSTART:20160214T010000Z
DTEND:20160214T040000Z
X-MICROSOFT-CDO-ALLDAYEVENT:FALSE
SUMMARY:Celebrity Dinner with Central Educational Foundtion and Central DeWitt
DESCRIPTION:Celebrity Dinner to raise money for the Building Trade Program at Central DeWitt Schools
X-ALT-DESC;FMTTYPE=text/html:Celebrity Dinner to raise money for the Building Trade Program at Central DeWitt&nbsp\;Schools
LOCATION:Spring Brook Country Club
UID:e.1774.1184
SEQUENCE:3
DTSTAMP:20260420T183416Z
URL:https://business.dewittiowa.org/events/details/celebrity-dinner-with-central-educational-foundtion-and-central-dewitt-02-13-2016-1184
END:VEVENT

END:VCALENDAR
