BEGIN:VCALENDAR
VERSION:2.0
PRODID:-//ChamberMaster//Event Calendar 2.0//EN
METHOD:PUBLISH
X-PUBLISHED-TTL:P3D
REFRESH-INTERVAL:P3D
CALSCALE:GREGORIAN
BEGIN:VEVENT
DTSTART:20150401T114500Z
DTEND:20150401T123000Z
X-MICROSOFT-CDO-ALLDAYEVENT:FALSE
SUMMARY:Central Community Educational Foundation Founder's Day Breakfast
DESCRIPTION:Annual breakfast for Central Educational Foundation announcing the teacher grants for 2015. Breakfast provided by Central Meal Management Class.
X-ALT-DESC;FMTTYPE=text/html:Annual breakfast for Central Educational Foundation announcing the teacher grants for 2015. Breakfast provided by Central Meal Management Class.
LOCATION:Central Community High School Cafeteria
UID:e.1774.328
SEQUENCE:3
DTSTAMP:20260421T110214Z
URL:https://business.dewittiowa.org/events/details/central-community-educational-foundation-founder-s-day-breakfast-04-01-2015-328
END:VEVENT

END:VCALENDAR
