BEGIN:VCALENDAR
VERSION:2.0
PRODID:-//ChamberMaster//Event Calendar 2.0//EN
METHOD:PUBLISH
X-PUBLISHED-TTL:P3D
REFRESH-INTERVAL:P3D
CALSCALE:GREGORIAN
BEGIN:VEVENT
DTSTART:20150125T010000Z
DTEND:20150125T040000Z
X-MICROSOFT-CDO-ALLDAYEVENT:FALSE
SUMMARY:Central Community Educational Foundation Trivia Night
DESCRIPTION:
X-ALT-DESC;FMTTYPE=text/html:
LOCATION:Springbrook Country Club
UID:e.1774.248
SEQUENCE:3
DTSTAMP:20260421T154445Z
URL:https://business.dewittiowa.org/events/details/central-community-educational-foundation-trivia-night-01-24-2015-248
END:VEVENT

END:VCALENDAR
