BEGIN:VCALENDAR
VERSION:2.0
PRODID:-//ChamberMaster//Event Calendar 2.0//EN
METHOD:PUBLISH
X-PUBLISHED-TTL:P3D
REFRESH-INTERVAL:P3D
CALSCALE:GREGORIAN
BEGIN:VEVENT
DTSTART:20170820T180000Z
DTEND:20170820T210000Z
X-MICROSOFT-CDO-ALLDAYEVENT:FALSE
SUMMARY:Central Community Historical Society Open House!
DESCRIPTION:ANNIVERSARY OPEN HOUSE - celebrating the Central Community Historical Society's 40th Anniversary. The Historical Society was established in 1977 and the Museum building itself was first opened in 1987 so that all the donations could be displayed. Many updates and improvements have been completed over the years so we invite you to a tour of your Museum! Please\, Come help us Celebrate!!
X-ALT-DESC;FMTTYPE=text/html:ANNIVERSARY OPEN HOUSE - celebrating the Central Community Historical Society&#39\;s 40th Anniversary. The Historical Society was established in 1977 and the Museum building itself was first opened in 1987 so that all the donations could be displayed. Many updates and improvements have been completed over the years so we invite you to a tour of your Museum! Please\, Come help us Celebrate!!
LOCATION:628 6th Avenue DeWitt\, Iowa
UID:e.1774.3204
SEQUENCE:3
DTSTAMP:20260419T151119Z
URL:https://business.dewittiowa.org/events/details/central-community-historical-society-open-house-3204
END:VEVENT

END:VCALENDAR
