BEGIN:VCALENDAR
VERSION:2.0
PRODID:-//ChamberMaster//Event Calendar 2.0//EN
METHOD:PUBLISH
X-PUBLISHED-TTL:P3D
REFRESH-INTERVAL:P3D
CALSCALE:GREGORIAN
BEGIN:VEVENT
DTSTART;VALUE=DATE:20150901
DTEND;VALUE=DATE:20150902
TRANSP:TRANSPARENT
X-MICROSOFT-CDO-ALLDAYEVENT:TRUE
SUMMARY:Central Community School District School Board Candidate Forum
DESCRIPTION:Please join us for the Central Community School\n\nDistrict School Board Candidate Forum. Take this\n\nopportunity to learn more about the four candidates\n\nrunning for three seats in the upcoming September 8th\n\nelection. During the forum community members will\n\nhave the chance to ask candidates questions related to\n\ntheir views on important school district issues.
X-ALT-DESC;FMTTYPE=text/html:<span style="font-size:16px\;">Please join us for the Central Community School<br />\nDistrict School Board Candidate Forum. Take this<br />\nopportunity to learn more about the four candidates<br />\nrunning for three seats in the upcoming September 8th<br />\nelection. During the forum community members will<br />\nhave the chance to ask candidates questions related to<br />\ntheir views on important school district issues.</span>
LOCATION:Central Middle School Media Center
UID:e.1774.1014
SEQUENCE:3
DTSTAMP:20260421T025335Z
URL:https://business.dewittiowa.org/events/details/central-community-school-district-school-board-candidate-forum-09-01-2015-1014
END:VEVENT

END:VCALENDAR
