BEGIN:VCALENDAR
VERSION:2.0
PRODID:-//ChamberMaster//Event Calendar 2.0//EN
METHOD:PUBLISH
X-PUBLISHED-TTL:P3D
REFRESH-INTERVAL:P3D
CALSCALE:GREGORIAN
BEGIN:VEVENT
DTSTART:20160926T123000Z
DTEND:20160926T140000Z
X-MICROSOFT-CDO-ALLDAYEVENT:FALSE
SUMMARY:Central Educational Foundation Breakfast Pizza Sales
DESCRIPTION:Central Educational Foundation is selling and delivering Breakfast Pizza to businesses on Monday morning Sept 26th\, the start of the Homecoming Week for Central. The Pizza cost $20 each for six large slices. Orders must be in by Wednesday\, September 21st.
X-ALT-DESC;FMTTYPE=text/html:Central Educational Foundation is selling and delivering Breakfast Pizza to businesses on Monday morning Sept 26th\, the start of the Homecoming Week for Central. The Pizza cost $20 each for six large slices. Orders must be in by Wednesday\,&nbsp\;September 21st.
LOCATION:Delivered to the businesses from 7:30 to 9:00 a m
UID:e.1774.1593
SEQUENCE:3
DTSTAMP:20260420T073712Z
URL:https://business.dewittiowa.org/events/details/central-educational-foundation-breakfast-pizza-sales-1593
END:VEVENT

END:VCALENDAR
