BEGIN:VCALENDAR
VERSION:2.0
PRODID:-//ChamberMaster//Event Calendar 2.0//EN
METHOD:PUBLISH
X-PUBLISHED-TTL:P3D
REFRESH-INTERVAL:P3D
CALSCALE:GREGORIAN
BEGIN:VEVENT
DTSTART:20170205T000000Z
DTEND:20170205T040000Z
X-MICROSOFT-CDO-ALLDAYEVENT:FALSE
SUMMARY:Central Educational Foundation Trivia Night
DESCRIPTION:Trivia night at Spring Brook County Club
X-ALT-DESC;FMTTYPE=text/html:Trivia night at Spring Brook County Club&nbsp\;&nbsp\;&nbsp\;&nbsp\;&nbsp\;
LOCATION:Spring Brook Country Club 2122 17th Ave. DeWitt\, IA
UID:e.1774.1817
SEQUENCE:3
DTSTAMP:20260420T011606Z
URL:https://business.dewittiowa.org/events/details/central-educational-foundation-trivia-night-1817
END:VEVENT

END:VCALENDAR
