BEGIN:VCALENDAR
VERSION:2.0
PRODID:-//ChamberMaster//Event Calendar 2.0//EN
METHOD:PUBLISH
X-PUBLISHED-TTL:P3D
REFRESH-INTERVAL:P3D
CALSCALE:GREGORIAN
BEGIN:VEVENT
DTSTART:20150316T223000Z
DTEND:20150317T003000Z
X-MICROSOFT-CDO-ALLDAYEVENT:FALSE
SUMMARY:Central High School Robotics Team Fundraiser
DESCRIPTION:The FIRST Tech Challenge robotics team for Central High School will be hosting a fundraiser at Hall of Fame Pizza and Wings. Funds raised will help support the implementation of the FTC program in the district. Every buffet purchased during the specified times earns the team a small portion of the total cost of the meal.
X-ALT-DESC;FMTTYPE=text/html:The FIRST Tech Challenge robotics team for Central High School will be hosting a fundraiser at Hall of Fame Pizza and Wings. Funds raised will help support the implementation of the FTC program in the district. Every buffet purchased during the specified times earns the team a small portion of the total cost of the meal.
LOCATION:Hall of Fame Pizza and Wings in downtown DeWitt.
UID:e.1774.331
SEQUENCE:3
DTSTAMP:20260421T123931Z
URL:https://business.dewittiowa.org/events/details/central-high-school-robotics-team-fundraiser-03-16-2015-331
END:VEVENT

END:VCALENDAR
