BEGIN:VCALENDAR
VERSION:2.0
PRODID:-//ChamberMaster//Event Calendar 2.0//EN
METHOD:PUBLISH
X-PUBLISHED-TTL:P3D
REFRESH-INTERVAL:P3D
CALSCALE:GREGORIAN
BEGIN:VEVENT
DTSTART:20150116T131500Z
DTEND:20150116T140000Z
X-MICROSOFT-CDO-ALLDAYEVENT:FALSE
SUMMARY:Central Music Boosters Donut Drive Thru
DESCRIPTION:Do you crave donuts but don't want the hassle of traffic and getting out in the cold? Let the Central Music Boosters help with that urge for donuts first thing in the morning on Friday\, January 16th\, with our Donut Drive Thru!!
X-ALT-DESC;FMTTYPE=text/html:Do you crave donuts but don&#39\;t want the hassle of traffic and getting out in the cold? Let the Central Music Boosters help with that urge for donuts first thing in the morning on Friday\, January 16th\, with our Donut Drive Thru!!
LOCATION:Pick up at DeWitt UCC Church parking lot on January 16\, 7:15 am-8:00 am. **Teachers and students may pick up in the High School atrium.
UID:e.1774.245
SEQUENCE:3
DTSTAMP:20260421T154351Z
URL:https://business.dewittiowa.org/events/details/central-music-boosters-donut-drive-thru-01-16-2015-245
END:VEVENT

END:VCALENDAR
