BEGIN:VCALENDAR
VERSION:2.0
PRODID:-//ChamberMaster//Event Calendar 2.0//EN
METHOD:PUBLISH
X-PUBLISHED-TTL:P3D
REFRESH-INTERVAL:P3D
CALSCALE:GREGORIAN
BEGIN:VEVENT
DTSTART:20141116T000000Z
DTEND:20141116T040000Z
X-MICROSOFT-CDO-ALLDAYEVENT:FALSE
SUMMARY:Central Saber High School Bowling Team Trivia Night
DESCRIPTION:
X-ALT-DESC;FMTTYPE=text/html:
LOCATION:Buzzy's - Welton\, Iowa
UID:e.1774.225
SEQUENCE:3
DTSTAMP:20260421T190535Z
URL:https://business.dewittiowa.org/events/details/central-saber-high-school-bowling-team-trivia-night-11-15-2014-225
END:VEVENT

END:VCALENDAR
