BEGIN:VCALENDAR
VERSION:2.0
PRODID:-//ChamberMaster//Event Calendar 2.0//EN
METHOD:PUBLISH
X-PUBLISHED-TTL:P3D
REFRESH-INTERVAL:P3D
CALSCALE:GREGORIAN
BEGIN:VEVENT
DTSTART:20140710T180000Z
DTEND:20140710T190000Z
X-MICROSOFT-CDO-ALLDAYEVENT:FALSE
SUMMARY:Charlie's Heroes
DESCRIPTION:Charlie's Heroes sponsored by the Mississippi Valley Blood Center and the DeWitt Library.
X-ALT-DESC;FMTTYPE=text/html:Charlie&#39\;s Heroes sponsored by the Mississippi Valley Blood Center and the DeWitt Library.
LOCATION:DeWitt Community Center 512 10th St. DeWitt\, IA
UID:e.1774.101
SEQUENCE:3
DTSTAMP:20260422T010835Z
URL:https://business.dewittiowa.org/events/details/charlie-s-heroes-07-10-2014-101
END:VEVENT

END:VCALENDAR
