BEGIN:VCALENDAR
VERSION:2.0
PRODID:-//ChamberMaster//Event Calendar 2.0//EN
METHOD:PUBLISH
X-PUBLISHED-TTL:P3D
REFRESH-INTERVAL:P3D
CALSCALE:GREGORIAN
BEGIN:VEVENT
DTSTART:20160417T220000Z
DTEND:20160418T010000Z
X-MICROSOFT-CDO-ALLDAYEVENT:FALSE
SUMMARY:Cheese Murder in Paradise
DESCRIPTION:Who poisoned the parrot head? A Jimmy Buffet mystery!\n\nPirates\, treasure maps and a killing in the Caribbean.\n\nCome enjoy a night at TYCOGA!!\n\n\n\nReservations can be made at TYCOGA.\n\nCASH OR CHECK ONLY\n\n$45.00/ per person. NONREFUNDABLE\n\nINCLUDES dinner & show.\n\nALL beverages to be purchased at TYCOGA.\n\nDEADLINE to sign up April 13\, 2016 or until full.
X-ALT-DESC;FMTTYPE=text/html:Who poisoned the parrot head? A Jimmy Buffet mystery!<br />\nPirates\, treasure maps and a killing in the Caribbean.<br />\nCome enjoy a night at TYCOGA!!<br />\n<br />\nReservations can be made at TYCOGA.<br />\nCASH OR CHECK ONLY<br />\n$45.00/ per person. NONREFUNDABLE<br />\nINCLUDES dinner &amp\; show.<br />\nALL beverages to be purchased at TYCOGA.<br />\nDEADLINE to sign up April 13\, 2016 or until full.<br />\n<br />\n&nbsp\;
LOCATION:TYCOGA Vineyard & Winery 2585 195th Street Dewitt\, IA
UID:e.1774.1261
SEQUENCE:3
DTSTAMP:20260420T165305Z
URL:https://business.dewittiowa.org/events/details/cheese-murder-in-paradise-04-17-2016-1261
END:VEVENT

END:VCALENDAR
