BEGIN:VCALENDAR
VERSION:2.0
PRODID:-//ChamberMaster//Event Calendar 2.0//EN
METHOD:PUBLISH
X-PUBLISHED-TTL:P3D
REFRESH-INTERVAL:P3D
CALSCALE:GREGORIAN
BEGIN:VEVENT
DTSTART:20161223T160000Z
DTEND:20161223T190000Z
X-MICROSOFT-CDO-ALLDAYEVENT:FALSE
SUMMARY:Children's Book Signing
DESCRIPTION:Molly Giese\, author\, and Cassie Dunlavey\, illustrator\, will sign copies of their newly published children's book "Ornery Henry\," starring Giese's sons Gabriel and his naughty but loveable little brother\, Henry.
X-ALT-DESC;FMTTYPE=text/html:Molly Giese\, author\, and Cassie Dunlavey\, illustrator\, will sign copies of their newly published children&#39\;s book &quot\;Ornery Henry\,&quot\; starring Giese&#39\;s sons Gabriel and his naughty but loveable little brother\, Henry.
LOCATION:Meant To Be With Flowers 810 6th Ave. DeWitt\, IA
UID:e.1774.1732
SEQUENCE:3
DTSTAMP:20260420T025549Z
URL:https://business.dewittiowa.org/events/details/children-s-book-signing-1732
END:VEVENT

END:VCALENDAR
