BEGIN:VCALENDAR
VERSION:2.0
PRODID:-//ChamberMaster//Event Calendar 2.0//EN
METHOD:PUBLISH
X-PUBLISHED-TTL:P3D
REFRESH-INTERVAL:P3D
CALSCALE:GREGORIAN
BEGIN:VEVENT
DTSTART:20141031T210000Z
DTEND:20141031T220000Z
X-MICROSOFT-CDO-ALLDAYEVENT:FALSE
SUMMARY:Children's Halloween Costume Parade
DESCRIPTION:Hey Trick or Treaters! Come join the Parade on October 31\, 2014 beginning at 4:00 p.m. Maggie's House Assisted Living is sponsoring a "Children's Halloween Costume Parade".  Gather under the water tower in Lincoln Park.  Be sure to arrive early.  The parade will start promptly at 4:00 p.m.  We will then journey down 6th Avenue to 5th Street where the first 100 parade goers will receive a Glo Stick.  We will disperse at the south parking lot of St. Joseph Catholic Church.\n\nJust a couple of rules - no motors (mini bike\, quad runner\, etc).  You can ride a bike\, tricycle\, wagon\, stroller\,buggy\, etc.  Trick or Treat with us at Maggie's House\, 107 E. 2nd Street from 5:00 - 7:00  p.m.  We will have the light on waiting to see you with treats!
X-ALT-DESC;FMTTYPE=text/html:Hey Trick or Treaters! Come join the Parade on October 31\, 2014 beginning at 4:00 p.m.&nbsp\;Maggie&#39\;s House Assisted Living is sponsoring a &quot\;Children&#39\;s Halloween Costume Parade&quot\;.&nbsp\; Gather under the water tower in Lincoln Park.&nbsp\; Be sure to arrive early.&nbsp\; The parade will start promptly at 4:00 p.m.&nbsp\; We will then journey down 6th Avenue to 5th Street where the first 100 parade goers will receive a Glo Stick.&nbsp\; We will disperse at the south parking lot of St. Joseph Catholic Church.<br />\nJust a couple of rules - no motors (mini bike\, quad runner\, etc).&nbsp\; You can ride a bike\, tricycle\, wagon\, stroller\,buggy\, etc.&nbsp\; Trick or Treat with us at Maggie&#39\;s House\, 107 E. 2nd Street from 5:00 - 7:00&nbsp\; p.m.&nbsp\; We will have the light on waiting to see you with treats!
LOCATION:Under the Water Tower in Lincoln Park DeWitt
UID:e.1774.227
SEQUENCE:3
DTSTAMP:20260421T204045Z
URL:https://business.dewittiowa.org/events/details/children-s-halloween-costume-parade-10-31-2014-227
END:VEVENT

END:VCALENDAR
