BEGIN:VCALENDAR
VERSION:2.0
PRODID:-//ChamberMaster//Event Calendar 2.0//EN
METHOD:PUBLISH
X-PUBLISHED-TTL:P3D
REFRESH-INTERVAL:P3D
CALSCALE:GREGORIAN
BEGIN:VEVENT
DTSTART:20151031T213000Z
DTEND:20151031T220000Z
X-MICROSOFT-CDO-ALLDAYEVENT:FALSE
SUMMARY:Children's Halloween Costume Parade
DESCRIPTION:Maggie's House Assisted Living wants everyone to have a safe and happy Halloween. Gather under the water tower in Lincoln Park. Be sure to arrive early as the parade will start promptly at 4:30 p.m.  The first 100 parade goers will receive a Glo Stick.
X-ALT-DESC;FMTTYPE=text/html:Maggie&#39\;s House Assisted Living wants everyone to have a safe and happy Halloween. Gather under the water tower in Lincoln Park. Be sure to arrive early as the parade will start promptly at 4:30 p.m.&nbsp\; The first 100 parade goers will receive a Glo Stick.
LOCATION:Under the Water Tower in Lincoln Park. Journey south down 6th Avenue\, turn east on 7th Street\, north on 5th Avenue\, west on 9th Street\, then north on 6th Avenue.
UID:e.1774.1074
SEQUENCE:3
DTSTAMP:20260421T025619Z
URL:https://business.dewittiowa.org/events/details/children-s-halloween-costume-parade-10-31-2015-1074
END:VEVENT

END:VCALENDAR
