BEGIN:VCALENDAR
VERSION:2.0
PRODID:-//ChamberMaster//Event Calendar 2.0//EN
METHOD:PUBLISH
X-PUBLISHED-TTL:P3D
REFRESH-INTERVAL:P3D
CALSCALE:GREGORIAN
BEGIN:VEVENT
DTSTART:20151115T010000Z
DTEND:20151115T030000Z
X-MICROSOFT-CDO-ALLDAYEVENT:FALSE
SUMMARY:Chile\, South America Dessert Banquet
DESCRIPTION:We will be hosting a dessert banquet to share our plans for an upcoming mission trip to Chile South America.
X-ALT-DESC;FMTTYPE=text/html:We will be hosting a dessert banquet to share our plans for an upcoming mission trip to Chile South America.
LOCATION:At the Community Center in DeWitt
UID:e.1774.1097
SEQUENCE:3
DTSTAMP:20260421T013227Z
URL:https://business.dewittiowa.org/events/details/chile-south-america-dessert-banquet-11-14-2015-1097
END:VEVENT

END:VCALENDAR
