BEGIN:VCALENDAR
VERSION:2.0
PRODID:-//ChamberMaster//Event Calendar 2.0//EN
METHOD:PUBLISH
X-PUBLISHED-TTL:P3D
REFRESH-INTERVAL:P3D
CALSCALE:GREGORIAN
BEGIN:VEVENT
DTSTART:20150709T183000Z
DTEND:20150709T193000Z
X-MICROSOFT-CDO-ALLDAYEVENT:FALSE
SUMMARY:Chris McBrien - Puppets\, Juggling\, Comedy
DESCRIPTION:Chicago magician\, ventriloquist\, comedian and storyteller\, Chris McBrien will be at the Community Center to present a family program.
X-ALT-DESC;FMTTYPE=text/html:Chicago magician\, ventriloquist\, comedian and storyteller\, Chris McBrien will be at the Community Center to present a family program.
LOCATION:DeWitt Community Center 512 10th St.\, DeWitt
UID:e.1774.911
SEQUENCE:3
DTSTAMP:20260421T061524Z
URL:https://business.dewittiowa.org/events/details/chris-mcbrien-puppets-juggling-comedy-07-09-2015-911
END:VEVENT

END:VCALENDAR
