BEGIN:VCALENDAR
VERSION:2.0
PRODID:-//ChamberMaster//Event Calendar 2.0//EN
METHOD:PUBLISH
X-PUBLISHED-TTL:P3D
REFRESH-INTERVAL:P3D
CALSCALE:GREGORIAN
BEGIN:VEVENT
DTSTART:20161203T150000Z
DTEND:20161203T173000Z
X-MICROSOFT-CDO-ALLDAYEVENT:FALSE
SUMMARY:Christmas Cookie Walk
DESCRIPTION:Join us for St. Joseph Parish's annual Christmas Cookie Walk. Pick out your favorite cookies for $5 a pound. Containers provided.
X-ALT-DESC;FMTTYPE=text/html:Join us for St. Joseph Parish&#39\;s annual Christmas Cookie Walk. Pick out your favorite cookies for $5 a pound. Containers provided.
LOCATION:Harness Hall 417 6th Avenue DeWitt\, Iowa
UID:e.1774.1693
SEQUENCE:3
DTSTAMP:20260420T042955Z
URL:https://business.dewittiowa.org/events/details/christmas-cookie-walk-1693
END:VEVENT

END:VCALENDAR
