BEGIN:VCALENDAR
VERSION:2.0
PRODID:-//ChamberMaster//Event Calendar 2.0//EN
METHOD:PUBLISH
X-PUBLISHED-TTL:P3D
REFRESH-INTERVAL:P3D
CALSCALE:GREGORIAN
BEGIN:VEVENT
DTSTART:20151122T193000Z
DTEND:20151122T220000Z
X-MICROSOFT-CDO-ALLDAYEVENT:FALSE
SUMMARY:Christmas Craft Make & Take
DESCRIPTION:Ann Lenth of Make it Yours Upcycle Center in Welton will provide reusable materials and instructions to make Christmas crafts. Great fun for all ages\; children under 8 with an adult please. Pre-registration is encouraged but walk ins will also be welcome.
X-ALT-DESC;FMTTYPE=text/html:Ann Lenth of Make it Yours Upcycle Center in Welton will provide reusable materials and instructions to make Christmas crafts. Great fun for all ages\; children under 8 with an adult please. Pre-registration is encouraged but walk ins will also be welcome.
LOCATION:Frances Banta Waggoner Community Library 505 10th St. DeWitt
UID:e.1774.1120
SEQUENCE:3
DTSTAMP:20260420T233033Z
URL:https://business.dewittiowa.org/events/details/christmas-craft-make-take-11-22-2015-1120
END:VEVENT

END:VCALENDAR
