BEGIN:VCALENDAR
VERSION:2.0
PRODID:-//ChamberMaster//Event Calendar 2.0//EN
METHOD:PUBLISH
X-PUBLISHED-TTL:P3D
REFRESH-INTERVAL:P3D
CALSCALE:GREGORIAN
BEGIN:VEVENT
DTSTART;VALUE=DATE:20160211
DTEND;VALUE=DATE:20160212
TRANSP:TRANSPARENT
X-MICROSOFT-CDO-ALLDAYEVENT:TRUE
SUMMARY:Clinton County Day at the Capital
DESCRIPTION:Interested in joining a group of Clinton County community leaders\, businesses\, and citizens to discuss local issues with key legislative leaders at the State Capitol?  Join us on February 11th in Des Moines for a full day of meet-and-greets with legislators and Governor Branstad.
X-ALT-DESC;FMTTYPE=text/html:<span style="font-family:arial\;"><span style="color:black\;"><span style="font-size:12.0pt\;">Interested in joining a group of Clinton County community leaders\, businesses\, and citizens to discuss local issues with key legislative leaders at the State Capitol?&nbsp\; Join us on&nbsp\;February 11th&nbsp\;in Des Moines for a full day of meet-and-greets with legislators and Governor Branstad. &nbsp\;</span></span></span>
LOCATION:Iowa Capitol Building Des Moines\, IA
UID:e.1774.1169
SEQUENCE:3
DTSTAMP:20260420T183826Z
URL:https://business.dewittiowa.org/events/details/clinton-county-day-at-the-capital-02-11-2016-1169
END:VEVENT

END:VCALENDAR
