BEGIN:VCALENDAR
VERSION:2.0
PRODID:-//ChamberMaster//Event Calendar 2.0//EN
METHOD:PUBLISH
X-PUBLISHED-TTL:P3D
REFRESH-INTERVAL:P3D
CALSCALE:GREGORIAN
BEGIN:VEVENT
DTSTART:20140515T233000Z
DTEND:20140516T010000Z
X-MICROSOFT-CDO-ALLDAYEVENT:FALSE
SUMMARY:Clinton County Economic Development Forum
DESCRIPTION:How can we as businesses and individuals encourage more economic activity and new jobs in Clinton County?  Over the last several months\, the DCDC\, City of DeWitt and our friends in Clinton County have been working together with Senator Rita Hart to create dialogue around this regional issue.   The next opportunity to expand this conversation will be on May 15th when Iowa State University professor and economist David Swenson presents his findings and answers questions on Clinton County's economic stats and trends at Buzzy's in Welton from \n\n6:30 - 8 pm.  The public is invited to attend this informational \n\nsession\, which will hopefully spur ideas on what we can do locally to create high quality jobs and positive economic growth.  Whether you are a local business or an area resident\, your voice is important\, and we want to hear from you!\n\n \n\n Please join us!
X-ALT-DESC;FMTTYPE=text/html:<div style="font-family: 'Times New Roman'\; font-size: 12pt\; line-height: normal\; text-align: center\; color: rgb(0\, 0\, 0)\;"><span style="font-family:verdana\;"><span style="font-size:12px\;">How can we as businesses and individuals encourage more economic activity and new jobs in Clinton County? &nbsp\;Over the last several months\, the DCDC\, City of DeWitt and our friends in Clinton County have been working together with Senator Rita Hart to create dialogue around this regional issue.&nbsp\; &nbsp\;The next opportunity to expand this conversation will be on&nbsp\;<strong>May 15th</strong>&nbsp\;when Iowa State University professor and economist David Swenson presents his findings and answers questions on Clinton County&#39\;s economic stats and trends at&nbsp\;<strong>Buzzy&#39\;s in Welton from&nbsp\;</strong></span></span><br />\n<strong><strong style="font-size: 12px\; font-family: verdana\;">6:30 - 8 pm</strong></strong><span style="font-size: 12px\; font-family: verdana\;"><strong>. </strong>&nbsp\;</span><span style="font-size: 12px\; font-family: verdana\;">The public is invited&nbsp\;</span><span style="font-size: 12px\; font-family: verdana\;">to attend&nbsp\;</span><span style="font-size: 12px\; font-family: verdana\;">this informational&nbsp\;</span></div>\n\n<div style="font-family: 'Times New Roman'\; font-size: 12pt\; line-height: normal\; text-align: center\; color: rgb(0\, 0\, 0)\;"><span style="font-family:verdana\;"><span style="font-size:12px\;">session\, which will hopefully spur ideas on what we can do locally to create high quality jobs and positive economic growth.&nbsp\; Whether you are a local business or an area resident\, your voice is important\, and we want to hear from you!</span></span></div>\n\n<div style="font-family: 'Times New Roman'\; font-size: 12pt\; line-height: normal\; text-align: center\; color: rgb(0\, 0\, 0)\;"><span style="font-family:verdana\;"><span style="font-size:12px\;">&nbsp\;</span></span></div>\n\n<div style="font-family: 'Times New Roman'\; font-size: 12pt\; line-height: normal\; text-align: center\; color: rgb(0\, 0\, 0)\;"><span style="font-family:verdana\;"><span style="font-size:12px\;">&nbsp\;Please join us!<span style="line-height: 12.0997pt\;">&nbsp\;</span></span></span></div>\n
LOCATION:
UID:e.1774.39
SEQUENCE:3
DTSTAMP:20260422T041901Z
URL:https://business.dewittiowa.org/events/details/clinton-county-economic-development-forum-05-15-2014-39
END:VEVENT

END:VCALENDAR
