BEGIN:VCALENDAR
VERSION:2.0
PRODID:-//ChamberMaster//Event Calendar 2.0//EN
METHOD:PUBLISH
X-PUBLISHED-TTL:P3D
REFRESH-INTERVAL:P3D
CALSCALE:GREGORIAN
BEGIN:VEVENT
DTSTART;VALUE=DATE:20140716
DTEND;VALUE=DATE:20140721
TRANSP:TRANSPARENT
X-MICROSOFT-CDO-ALLDAYEVENT:TRUE
SUMMARY:Clinton County Fair
DESCRIPTION:Where can you see Bigfoot\, toads\, Zany Janie\, rubber ducks race\, chicks hatch\, bull riding\, car get smashed and trucks\, tractors and garden tractors tear up the track? Come to the Clinton County Fair all of these and more! For more information on the Clinton County Fair check out the fair website at www.clintoncountyiowafair.com. Liking the Clinton County Iowa Fair on Facebook to keep up to date on all the events at the fairgrounds.
X-ALT-DESC;FMTTYPE=text/html:Where can you see Bigfoot\, toads\, Zany Janie\, rubber ducks race\, chicks hatch\, bull riding\, car get smashed and trucks\, tractors and garden tractors tear up the track? Come to the Clinton County Fair all of these and more! For more information on the Clinton County Fair check out the fair website at www.clintoncountyiowafair.com. Liking the Clinton County Iowa Fair on Facebook to keep up to date on all the events at the fairgrounds.
LOCATION:Clinton County Fairgrounds 328 E. 8th St. DeWitt\, IA
UID:e.1774.86
SEQUENCE:3
DTSTAMP:20260422T010733Z
URL:https://business.dewittiowa.org/events/details/clinton-county-fair-07-16-2014-86
END:VEVENT

END:VCALENDAR
