BEGIN:VCALENDAR
VERSION:2.0
PRODID:-//ChamberMaster//Event Calendar 2.0//EN
METHOD:PUBLISH
X-PUBLISHED-TTL:P3D
REFRESH-INTERVAL:P3D
CALSCALE:GREGORIAN
BEGIN:VEVENT
DTSTART;VALUE=DATE:20150715
DTEND;VALUE=DATE:20150720
TRANSP:TRANSPARENT
X-MICROSOFT-CDO-ALLDAYEVENT:TRUE
SUMMARY:Clinton County Fair/Club Show
DESCRIPTION:The 82nd Annual Clinton County Fair/Club Show will be held July 15th - 19th at the Clinton County Fairgrounds\, 328 East 8th Street\, DeWitt. A family friendly event open to all. It features 4-H\, FFA & open exhibits and contest\, a carnival\, evening entertainment (Garden tractor Pull\, Hypnotist Jim Wand\, Tractor & truck Pull\, Demolition Derby and Bull Riding & Barrel Races). Other events and activities include a chick hatching display\, Bill Riley Talent Search\, "I Milked a Cow"\, a petting zoo\, balloon artist Zany Janie\, face painter and Wild Bill Toady's Show. And don't be amazed to see Bigfoot. Compete in the Texting Contest\, Instagram Contest\, Rubber Chicken Toss\, Bags Tournament\, Mutton Bustin'\, Pedal Pull\, Seed Spit\, Senior Spelling Bee and more. All events are free with gate admission. More information is available on the fair website\, www.clintoncountyiowafair.com. Like us on Facebook\, https://www.facebook.com/clintoncountyiowafair.
X-ALT-DESC;FMTTYPE=text/html:The 82nd Annual Clinton County Fair/Club Show will be held July 15th - 19th at the Clinton County Fairgrounds\, 328 East 8th Street\, DeWitt. A family friendly event open to all. It features 4-H\, FFA &amp\; open exhibits and contest\, a carnival\, evening entertainment (Garden tractor Pull\, Hypnotist Jim Wand\, Tractor &amp\; truck Pull\, Demolition Derby and Bull Riding &amp\; Barrel Races). Other events and activities include a chick hatching display\, Bill Riley Talent Search\, &quot\;I Milked a Cow&quot\;\, a petting zoo\, balloon artist Zany Janie\, face painter and Wild Bill Toady&#39\;s Show. And don&#39\;t be amazed to see Bigfoot. Compete in the Texting Contest\, Instagram Contest\, Rubber Chicken Toss\, Bags Tournament\, Mutton Bustin&#39\;\, Pedal Pull\, Seed Spit\, Senior Spelling Bee and more. All events are free with gate admission. More information is available on the fair website\, www.clintoncountyiowafair.com. Like us on Facebook\, https://www.facebook.com/clintoncountyiowafair.
LOCATION:Clinton County Fairgrounds 328 East 8th Street\, DeWitt\, IA 52742
UID:e.1774.317
SEQUENCE:3
DTSTAMP:20260421T061831Z
URL:https://business.dewittiowa.org/events/details/clinton-county-fair-club-show-07-15-2015-317
END:VEVENT

END:VCALENDAR
