BEGIN:VCALENDAR
VERSION:2.0
PRODID:-//ChamberMaster//Event Calendar 2.0//EN
METHOD:PUBLISH
X-PUBLISHED-TTL:P3D
REFRESH-INTERVAL:P3D
CALSCALE:GREGORIAN
BEGIN:VEVENT
DTSTART:20140623T230000Z
DTEND:20140624T000000Z
X-MICROSOFT-CDO-ALLDAYEVENT:FALSE
SUMMARY:Clinton County Fair Emergency Plan Meeting
DESCRIPTION:Chance Kness\, Clinton County Emergency Management Coordinator\, will be review the Clinton County Fair's Emergency Plan for fair volunteers and emergency personal. The public is invited to attend.
X-ALT-DESC;FMTTYPE=text/html:Chance Kness\, Clinton County Emergency Management Coordinator\, will be review the Clinton County Fair&#39\;s Emergency Plan for fair volunteers and emergency personal. The public is invited to attend.
LOCATION:Commercial Exhibits Building at Clinton County Fairgrounds 328 E. 8th St. DeWitt\, IA
UID:e.1774.87
SEQUENCE:3
DTSTAMP:20260422T025605Z
URL:https://business.dewittiowa.org/events/details/clinton-county-fair-emergency-plan-meeting-06-23-2014-87
END:VEVENT

END:VCALENDAR
