BEGIN:VCALENDAR
VERSION:2.0
PRODID:-//ChamberMaster//Event Calendar 2.0//EN
METHOD:PUBLISH
X-PUBLISHED-TTL:P3D
REFRESH-INTERVAL:P3D
CALSCALE:GREGORIAN
BEGIN:VEVENT
DTSTART:20160706T150000Z
DTEND:20160706T190000Z
X-MICROSOFT-CDO-ALLDAYEVENT:FALSE
SUMMARY:Clinton County Fair Master Gardener’s Day July 6\, 2016
DESCRIPTION:Come out to the fair & enjoy Master Gardener's Day! Have a relaxing time\, gain knowledge\, roam our garden (Outdoor Living Classroom) and enjoy yourself.   Bring your family & friends.  The Outdoor Living Classroom has been renovated & offers many new plants for viewing.\n\n \n\nShare your outdoor container creativity by entering the Outdoor Container Contest.  Check in of containers is from 9:00 am   12 noon at the large tent near the Outdoor Living Classroom.  \n\n \n\nWe also sponsor a vegetable contest in the north room of the Auditorium at the fairgrounds. Check in of vegetables is likewise from 9:00 am to noon.\n\n \n\nAdditional Information & Rules regarding these contests is available at:\n\n          www.clintoncountyiowafair.com/countyfair.html  or the Iowa\n\n          State Extension Office\, 400 East 11th Ave in DeWitt \n\n          at 563-659-5125 \n\n \n\nNew this year is a photo contest.  Photos from the Outdoor Living Classroom taken by Master Gardeners will be displayed in large tent by the garden.  They will be judged and prizes awarded.\n\n \n\nMini workshops will be presented in the tent located by the Outdoor Living Classroom:\n\n                                         \n\n\n	\n		\n			10:00 am  \n			Pollinators & Pollinator plants\n\n			(Margo Hansen\, Bickelhaupt Arboretum)\n		\n		\n			11:00 am  \n			Growing Better Vegetables     \n\n			(Dennis Schrock\, Iowa State Master Garden Coordinator)\n		\n		\n			12:00 pm  \n			Plants that Shine in Your Garden & Patio Garden\n\n			(Bud LeFevre\, Distinctive Gardens\, Dixon\, IL.)\n		\n		\n			1:00 pm    \n			Tips for Better Nature Photos\n\n			(Jerry Banse/Dennis Wright\, Muddy River Camera Club)\n		\n	\n\n  \n\nAt Noon - Judging of the Vegetable Contest & Photo Contest \n\nAt 1:00 pm - Judging of the Outdoor Container Contest                        \n\nAt 2:00 pm - The announcement of winners of the Outdoor Container Contest\,\n\n                     with the award of prizes\, & critique of containers by Judges\n  \n\nAnd on Saturday\, July 9th at 5:00 pm\, announcement of the People's Choice\n\nAward.\n\n \n\nHope to see you there!         \n\nEveryone is welcome
X-ALT-DESC;FMTTYPE=text/html:<span style="font-size:12px\;"><strong><span style="font-family:arial\,sans-serif\;">Come out to the fair &amp\; enjoy Master Gardener&rsquo\;s Day! Have a relaxing time\, gain knowledge\, roam our garden (Outdoor Living Classroom) and enjoy yourself.&nbsp\;&nbsp\; Bring your family &amp\; friends.&nbsp\; The Outdoor Living Classroom has been renovated &amp\; offers many new plants for viewing.</span></strong><br />\n&nbsp\;<br />\n<span style="font-family:arial\,sans-serif\;">Share your outdoor container creativity by entering the Outdoor Container Contest.&nbsp\; Check in of containers is from 9:00 am &ndash\; 12 noon at the large tent near the Outdoor Living Classroom.&nbsp\; </span><br />\n&nbsp\;<br />\n<span style="font-family:arial\,sans-serif\;">We also sponsor a vegetable contest in the north room of the Auditorium at the fairgrounds. Check in of vegetables is likewise from 9:00 am to noon.</span><br />\n&nbsp\;<br />\n<span style="font-family:arial\,sans-serif\;">Additional Information &amp\; Rules regarding these contests is available at:</span><br />\n<span style="font-family:arial\,sans-serif\;">&nbsp\;&nbsp\;&nbsp\;&nbsp\;&nbsp\;&nbsp\;&nbsp\;&nbsp\;&nbsp\; <a href="http://www.clintoncountyiowafair.com/countyfair.html">www.clintoncountyiowafair.com/countyfair.html</a>&nbsp\; or the Iowa</span><br />\n<span style="font-family:arial\,sans-serif\;">&nbsp\;&nbsp\;&nbsp\;&nbsp\;&nbsp\;&nbsp\;&nbsp\;&nbsp\;&nbsp\; State Extension Office\, 400 East 11<sup>th</sup> Ave in DeWitt </span><br />\n<span style="font-family:arial\,sans-serif\;">&nbsp\; &nbsp\; &nbsp\; &nbsp\; &nbsp\; at 563-659-5125 </span><br />\n&nbsp\;<br />\n<span style="font-family:arial\,sans-serif\;">New this year is a photo contest.&nbsp\; Photos from the Outdoor Living Classroom taken by Master Gardeners will be displayed in large tent by the garden.&nbsp\; They will be judged and prizes awarded.</span><br />\n&nbsp\;<br />\n<span style="font-family:arial\,sans-serif\;">Mini workshops will be presented in the tent located by the Outdoor Living Classroom:</span><br />\n&nbsp\; &nbsp\; &nbsp\; &nbsp\; &nbsp\; &nbsp\; &nbsp\; &nbsp\; &nbsp\; &nbsp\; &nbsp\; &nbsp\; &nbsp\; &nbsp\; &nbsp\; &nbsp\; &nbsp\; &nbsp\; &nbsp\; &nbsp\; &nbsp\;</span>\n\n<table border="1" cellpadding="0" cellspacing="0" style="border-collapse:collapse\;border:none\;">\n	<tbody>\n		<tr>\n			<td style="border:solid windowtext 1.0pt\;padding:0in 5.4pt 0in 5.4pt\;vertical-align:top\;"><span style="font-size:12px\;"><span style="font-family:arial\,sans-serif\;">10:00 am&nbsp\; </span></span></td>\n			<td style="border:solid windowtext 1.0pt\;border-left:none\;padding:0in 5.4pt 0in 5.4pt\;vertical-align:top\;"><span style="font-size:12px\;"><span style="font-family:arial\,sans-serif\;">Pollinators &amp\; Pollinator plants</span><br />\n			<span style="font-family:arial\,sans-serif\;">(Margo Hansen\, Bickelhaupt Arboretum)</span></span></td>\n		</tr>\n		<tr>\n			<td style="border:solid windowtext 1.0pt\;border-top:none\;padding:0in 5.4pt 0in 5.4pt\;vertical-align:top\;"><span style="font-size:12px\;"><span style="font-family:arial\,sans-serif\;">11:00 am&nbsp\; </span></span></td>\n			<td style="border-top:none\;border-left:none\;border-bottom:solid windowtext 1.0pt\;border-right:solid windowtext 1.0pt\;padding:0in 5.4pt 0in 5.4pt\;vertical-align:top\;"><span style="font-size:12px\;"><span style="font-family:arial\,sans-serif\;">Growing Better Vegetables&nbsp\;&nbsp\;&nbsp\;&nbsp\; </span><br />\n			<span style="font-family:arial\,sans-serif\;">(Dennis Schrock\, Iowa State Master Garden Coordinator)</span></span></td>\n		</tr>\n		<tr>\n			<td style="border:solid windowtext 1.0pt\;border-top:none\;padding:0in 5.4pt 0in 5.4pt\;vertical-align:top\;"><span style="font-size:12px\;"><span style="font-family:arial\,sans-serif\;">12:00 pm&nbsp\; </span></span></td>\n			<td style="border-top:none\;border-left:none\;border-bottom:solid windowtext 1.0pt\;border-right:solid windowtext 1.0pt\;padding:0in 5.4pt 0in 5.4pt\;vertical-align:top\;"><span style="font-size:12px\;"><span style="font-family:arial\,sans-serif\;">Plants that Shine in Your Garden &amp\; Patio Garden</span><br />\n			<span style="font-family:arial\,sans-serif\;">(Bud LeFevre\, Distinctive Gardens\, Dixon\, IL.)</span></span></td>\n		</tr>\n		<tr>\n			<td style="border:solid windowtext 1.0pt\;border-top:none\;padding:0in 5.4pt 0in 5.4pt\;vertical-align:top\;"><span style="font-size:12px\;"><span style="font-family:arial\,sans-serif\;">1:00 pm&nbsp\;&nbsp\;&nbsp\; </span></span></td>\n			<td style="border-top:none\;border-left:none\;border-bottom:solid windowtext 1.0pt\;border-right:solid windowtext 1.0pt\;padding:0in 5.4pt 0in 5.4pt\;vertical-align:top\;"><span style="font-size:12px\;"><span style="font-family:arial\,sans-serif\;">Tips for Better Nature Photos</span><br />\n			<span style="font-family:arial\,sans-serif\;">(Jerry Banse/Dennis Wright\, Muddy River Camera Club)</span></span></td>\n		</tr>\n	</tbody>\n</table>\n<span style="font-size:12px\;"> &nbsp\;</span>\n\n<div><span style="font-size:12px\;"><span style="font-family:arial\,sans-serif\;">At Noon -&nbsp\;Judging of the Vegetable Contest &amp\; Photo Contest </span><br />\n<span style="font-family:arial\,sans-serif\;">At 1:00 pm -&nbsp\;Judging of the Outdoor Container Contest</span>&nbsp\;&nbsp\;&nbsp\;&nbsp\;&nbsp\;&nbsp\;&nbsp\;&nbsp\;&nbsp\;&nbsp\;&nbsp\;&nbsp\;&nbsp\;&nbsp\;&nbsp\;&nbsp\;&nbsp\;&nbsp\;&nbsp\; &nbsp\;&nbsp\;&nbsp\;&nbsp\;<br />\n<span style="font-family:arial\,sans-serif\;">At 2:00 pm -&nbsp\;The announcement of winners of the Outdoor Container Contest\,</span><br />\n<span style="font-family:arial\,sans-serif\;">&nbsp\; &nbsp\; &nbsp\; &nbsp\; &nbsp\; &nbsp\; &nbsp\; &nbsp\; &nbsp\; &nbsp\; &nbsp\;with the award of prizes\, &amp\; critique of containers by Judges</span></span></div>\n<span style="font-size:12px\;"> &nbsp\;<br />\n<span style="font-family:arial\,sans-serif\;">And on Saturday\, July 9th at 5:00 pm\, announcement of the People&rsquo\;s Choice</span><br />\n<span style="font-family:arial\,sans-serif\;">Award.</span><br />\n&nbsp\;</span><br />\n<strong><span style="font-family:arial\,sans-serif"><span style="font-size:16.0pt\;">Hope to see you there!&nbsp\;&nbsp\;&nbsp\;&nbsp\;&nbsp\;&nbsp\;&nbsp\;&nbsp\;&nbsp\;<br />\nEveryone is welcome</span></span></strong><br />\n&nbsp\;
LOCATION:
UID:e.1774.1491
SEQUENCE:3
DTSTAMP:20260420T105029Z
URL:https://business.dewittiowa.org/events/details/clinton-county-fair-master-gardener-s-day-july-6-2016-07-06-2016-1491
END:VEVENT

END:VCALENDAR
