BEGIN:VCALENDAR
VERSION:2.0
PRODID:-//ChamberMaster//Event Calendar 2.0//EN
METHOD:PUBLISH
X-PUBLISHED-TTL:P3D
REFRESH-INTERVAL:P3D
CALSCALE:GREGORIAN
BEGIN:VEVENT
DTSTART:20160709T150000Z
DTEND:20160709T230000Z
X-MICROSOFT-CDO-ALLDAYEVENT:FALSE
SUMMARY:Clinton County Farm Bureau Cookout Contest
DESCRIPTION:Contestants will compete in one of the following six categories: beef\, pork\, lamb\, poultry\, turkey\, combo/specialty.  Combo is a recipe combine two or more meats from the eligible meat categories.  Specialty includes IOWA domestically raised meats including venison\, goat\, and fish\, etc. excluding wild game. Entries will be judged on the basis of taste\, appearance and originality.\n\nA Cookout Champion will be named and awards given to winners in each category.  Special recognition will also go to winners of the showmanship\, youth and team cooking categories.\n\nThe County Cookout Champion\, along with all first place category winners and winners of the showmanship\, youth and team awards will have the chance to compete in the state finals at the Iowa State Fair on August 16\, 2016.\n\nThe cookout contest is being sponsored by the Clinton County Farm Bureau in cooperation with the Clinton County Fair Board.
X-ALT-DESC;FMTTYPE=text/html:<span style="font-size:12pt"><span style="font-family:times new roman\,serif">Contestants will compete in one of the following six categories: beef\, pork\, lamb\, poultry\, turkey\, combo/specialty.&nbsp\; Combo is a recipe combine two or more meats from the eligible meat categories.&nbsp\; Specialty includes IOWA domestically raised meats including venison\, goat\, and fish\, etc. excluding wild game. Entries will be judged on the basis of taste\, appearance and originality.</span></span><br />\n<span style="font-size:12pt"><span style="font-family:times new roman\,serif">A&nbsp\;Cookout Champion will be named and awards given to winners in each category.&nbsp\; Special recognition will also go to winners of the showmanship\, youth and team cooking categories.</span></span><br />\n<span style="font-size:12pt"><span style="font-family:times new roman\,serif">The County Cookout Champion\, along with all first place category winners and winners of the showmanship\, youth and team awards will have the chance to compete in the state finals at the Iowa State Fair on August 16\, 2016.</span></span><br />\n<span style="font-size:12pt"><span style="font-family:times new roman\,serif">The cookout contest is being sponsored by the Clinton County Farm Bureau in cooperation with the Clinton County Fair Board.</span></span><br />\n&nbsp\;
LOCATION:Clinton County Fairgrounds 328 E. 8th St. DeWitt\, IA
UID:e.1774.1327
SEQUENCE:3
DTSTAMP:20260420T105045Z
URL:https://business.dewittiowa.org/events/details/clinton-county-farm-bureau-cookout-contest-07-09-2016-1327
END:VEVENT

END:VCALENDAR
