BEGIN:VCALENDAR
VERSION:2.0
PRODID:-//ChamberMaster//Event Calendar 2.0//EN
METHOD:PUBLISH
X-PUBLISHED-TTL:P3D
REFRESH-INTERVAL:P3D
CALSCALE:GREGORIAN
BEGIN:VEVENT
DTSTART:20170521T140000Z
DTEND:20170521T170000Z
X-MICROSOFT-CDO-ALLDAYEVENT:FALSE
SUMMARY:Clinton County Master Gardener Plant Sale
DESCRIPTION:The Master Gardeners will sell a variety of perennials\, annuals\, house plants\, vegetables and herbs. The "Garden Treasure" sale will feature new pots and planters\, gently used garden planters\, garden tools\, garden arts and crafts\, and other unique garden items.
X-ALT-DESC;FMTTYPE=text/html:The Master Gardeners will sell a variety of perennials\, annuals\, house plants\, vegetables and herbs. The &quot\;Garden Treasure&quot\; sale will feature new pots and planters\, gently used garden planters\, garden tools\, garden arts and crafts\, and other unique garden items.
LOCATION:Clinton County Fairgrounds 328 East 8th Street DeWitt\, IA
UID:e.1774.3005
SEQUENCE:3
DTSTAMP:20260419T184153Z
URL:https://business.dewittiowa.org/events/details/clinton-county-master-gardener-plant-sale-05-21-2017-3005
END:VEVENT

END:VCALENDAR
