BEGIN:VCALENDAR
VERSION:2.0
PRODID:-//ChamberMaster//Event Calendar 2.0//EN
METHOD:PUBLISH
X-PUBLISHED-TTL:P3D
REFRESH-INTERVAL:P3D
CALSCALE:GREGORIAN
BEGIN:VEVENT
DTSTART:20170520T140000Z
DTEND:20170520T190000Z
X-MICROSOFT-CDO-ALLDAYEVENT:FALSE
SUMMARY:Clinton County Master Gardener Plant Sale
DESCRIPTION:The Master Gardener's will be selling a variety of perennials\, annuals\, house plants\, vegetables and herbs. There will also be a " Garden Treasure" sale featuring new pots and planters\, gently used garden planters\, garden tools\, garden arts and crafts\, and other unique garden items.
X-ALT-DESC;FMTTYPE=text/html:The Master Gardener&#39\;s will be selling a variety of perennials\, annuals\, house plants\, vegetables and herbs. There will also be a &quot\; Garden Treasure&quot\; sale featuring new pots and planters\, gently used garden planters\, garden tools\, garden arts and crafts\, and other unique garden items.
LOCATION:Clinton County Fairgrounds 328 East 8th Street DeWitt\, IA
UID:e.1774.3004
SEQUENCE:3
DTSTAMP:20260419T183932Z
URL:https://business.dewittiowa.org/events/details/clinton-county-master-gardener-plant-sale-3004
END:VEVENT

END:VCALENDAR
