BEGIN:VCALENDAR
VERSION:2.0
PRODID:-//ChamberMaster//Event Calendar 2.0//EN
METHOD:PUBLISH
X-PUBLISHED-TTL:P3D
REFRESH-INTERVAL:P3D
CALSCALE:GREGORIAN
BEGIN:VEVENT
DTSTART:20170625T170000Z
DTEND:20170625T210000Z
X-MICROSOFT-CDO-ALLDAYEVENT:FALSE
SUMMARY:Clinton County Master Gardener's Garden Walk
DESCRIPTION:The Master Gardener's of Clinton County are providing the public an opportunity to visit six gardens.
X-ALT-DESC;FMTTYPE=text/html:The Master Gardener&#39\;s of Clinton County are providing the public an opportunity to visit six gardens.
LOCATION:Locations of the gardens are: Outdoor Living Classroom: 348 8th Avenue\, DeWitt Judy Williams: 125 5th Avenue\, DeWitt Deb & JC Monroe: 1213 6th Street\, DeWitt Janis & Wayne Harbison: 1020 14th Street\, DeWitt Madonna Sagers & Lowell Gehrls: 2606 244th Street\, DeWitt Jean & John Moffitt: 2446 255th Street\, DeWitt
UID:e.1774.3120
SEQUENCE:3
DTSTAMP:20260419T182937Z
URL:https://business.dewittiowa.org/events/details/clinton-county-master-gardener-s-garden-walk-3120
END:VEVENT

END:VCALENDAR
