BEGIN:VCALENDAR
VERSION:2.0
PRODID:-//ChamberMaster//Event Calendar 2.0//EN
METHOD:PUBLISH
X-PUBLISHED-TTL:P3D
REFRESH-INTERVAL:P3D
CALSCALE:GREGORIAN
BEGIN:VEVENT
DTSTART:20160514T150000Z
DTEND:20160515T220000Z
X-MICROSOFT-CDO-ALLDAYEVENT:FALSE
SUMMARY:Clinton County Master Gardeners Annual Plant Sale
DESCRIPTION:The Clinton County Master Gardeners will be holding their Annual Plant Sale May 14th and 15th two locations\, in DeWitt at the Clinton County Fairgrounds  328 East 8th Street\, Saturday 9 am to 2 pm and Sunday 9 am to noon.\n\n\n\nA wide variety of perennials\, annuals\, houseplants\, vegetables\, and herbs will be available for sale. At the DeWitt location\, there will also be a Garden Treasure sale: both gently used new & used decorative pots & planters\, garden art\, garden tools\, & other unique garden items.
X-ALT-DESC;FMTTYPE=text/html:The Clinton County Master Gardeners will be holding their Annual Plant Sale May 14th and 15th&nbsp\;two locations\, in DeWitt at the Clinton County Fairgrounds &nbsp\;328 East 8th Street\, Saturday 9 am to 2 pm and Sunday 9 am to noon.<br />\n<br />\nA wide variety of perennials\, annuals\, houseplants\, vegetables\, and herbs will be available for sale.&nbsp\;At the DeWitt location\, there will also be a Garden Treasure sale: both gently used new &amp\; used decorative pots &amp\; planters\, garden art\, garden tools\, &amp\; other unique garden items.
LOCATION:
UID:e.1774.1337
SEQUENCE:3
DTSTAMP:20260420T140343Z
URL:https://business.dewittiowa.org/events/details/clinton-county-master-gardeners-annual-plant-sale-05-14-2016-1337
END:VEVENT

END:VCALENDAR
