BEGIN:VCALENDAR
VERSION:2.0
PRODID:-//ChamberMaster//Event Calendar 2.0//EN
METHOD:PUBLISH
X-PUBLISHED-TTL:P3D
REFRESH-INTERVAL:P3D
CALSCALE:GREGORIAN
BEGIN:VEVENT
DTSTART;VALUE=DATE:20140517
DTEND;VALUE=DATE:20140519
TRANSP:TRANSPARENT
X-MICROSOFT-CDO-ALLDAYEVENT:TRUE
SUMMARY:Clinton County Master Gardeners Annual Plant Sale
DESCRIPTION:A variety of perennials\, annuals\, house plants\, vegetables and herbs will be available for sale at both locations.\n\n\n\nFor the first time at the DeWitt location there be a Garden "Treasure" sale\, both gently used & new decorative pots & planters\, garden art\, garden tools & other unique garden items.
X-ALT-DESC;FMTTYPE=text/html:A variety of perennials\, annuals\, house plants\, vegetables and herbs will be available for sale at both locations.<br />\n<br />\nFor the first time at the DeWitt location there be a Garden &quot\;Treasure&quot\; sale\, both gently used &amp\; new decorative pots &amp\; planters\, garden art\, garden tools &amp\; other unique garden items.
LOCATION:Clinton: Lyons 4 Square Park\, Main Ave. & Roosevelt St. Saturday: 10:00AM to 5:00PM Sunday: 10:00AM to 4:00PM DeWitt: Clinton County Fairgrounds\, 328 East 8th St. Saturday: 9:00AM to 3:00PM Sunday: 9:00AM to Noon
UID:e.1774.40
SEQUENCE:3
DTSTAMP:20260422T055759Z
URL:https://business.dewittiowa.org/events/details/clinton-county-master-gardeners-annual-plant-sale-05-17-2014-40
END:VEVENT

END:VCALENDAR
