BEGIN:VCALENDAR
VERSION:2.0
PRODID:-//ChamberMaster//Event Calendar 2.0//EN
METHOD:PUBLISH
X-PUBLISHED-TTL:P3D
REFRESH-INTERVAL:P3D
CALSCALE:GREGORIAN
BEGIN:VEVENT
DTSTART:20140916T200000Z
DTEND:20140916T230000Z
X-MICROSOFT-CDO-ALLDAYEVENT:FALSE
SUMMARY:Clinton County Satellite Offices Open House Celebration
DESCRIPTION:Ribbon cutting ceremony at 4:00 P.M.\n\nRefreshments will be served
X-ALT-DESC;FMTTYPE=text/html:Ribbon cutting ceremony at 4:00 P.M.<br />\nRefreshments will be served
LOCATION:Clinton County Satellite Offices 226 11th St. DeWitt\, IA
UID:e.1774.185
SEQUENCE:3
DTSTAMP:20260421T222601Z
URL:https://business.dewittiowa.org/events/details/clinton-county-satellite-offices-open-house-celebration-09-16-2014-185
END:VEVENT

END:VCALENDAR
