BEGIN:VCALENDAR
VERSION:2.0
PRODID:-//ChamberMaster//Event Calendar 2.0//EN
METHOD:PUBLISH
X-PUBLISHED-TTL:P3D
REFRESH-INTERVAL:P3D
CALSCALE:GREGORIAN
BEGIN:VEVENT
DTSTART:20160430T170000Z
DTEND:20160430T200000Z
X-MICROSOFT-CDO-ALLDAYEVENT:FALSE
SUMMARY:Clinton County St. Baldrick's Fundraiser
DESCRIPTION:Stand up against kid's cancer and be a hero for kids. After pledging online to shave your head and raise funds for children's cancer research\, this is the day that shavees will get their heads shaved and walk in solidarity with kids battling cancer. There will be the ceremonial shaving of the heads\, silent auction\, bake sale\, kids activities and food vendors. Make it a day in Lincoln Park. To be a shavee register at https://www.stbaldricks.org/events/mypage/5580/2016
X-ALT-DESC;FMTTYPE=text/html:Stand up against kid&#39\;s cancer and be a hero for kids. After pledging online to shave your head and raise funds for children&#39\;s cancer research\, this is the day that shavees will get their heads shaved and walk in solidarity with kids battling cancer. There will be the ceremonial shaving of the heads\, silent auction\, bake sale\, kids activities and food vendors. Make it a day in Lincoln Park. To be a shavee register at https://www.stbaldricks.org/events/mypage/5580/2016
LOCATION:Lincoln Park in DeWitt\, IA
UID:e.1774.1251
SEQUENCE:3
DTSTAMP:20260420T152621Z
URL:https://business.dewittiowa.org/events/details/clinton-county-st-baldrick-s-fundraiser-04-30-2016-1251
END:VEVENT

END:VCALENDAR
