BEGIN:VCALENDAR
VERSION:2.0
PRODID:-//ChamberMaster//Event Calendar 2.0//EN
METHOD:PUBLISH
X-PUBLISHED-TTL:P3D
REFRESH-INTERVAL:P3D
CALSCALE:GREGORIAN
BEGIN:VEVENT
DTSTART;VALUE=DATE:20140608
DTEND;VALUE=DATE:20140609
TRANSP:TRANSPARENT
X-MICROSOFT-CDO-ALLDAYEVENT:TRUE
SUMMARY:Clinton LumberKings "DeWitt Day"
DESCRIPTION:The DCDC is partnering with the Clinton LumberKings for \n\n"DeWitt Day" \n\non Sunday\, June 8th \n\n\n\nat Ashford University Field\n\n \n\nThe DCDC office has 100 FREE General Admissions tickets available for pick up (please limit 4 tickets per person)\n\n \n\nThe game begins at 2pm\, gates open at 12:30pm \n\n \n\nRain date for the event is Thursday\, June 12\n\nwith a 6:30pm start time and gates opening at 5:00pm \n\n \n\nTo see the entire LumberKings schedule\, check out their website http://www.milb.com/schedule/index.jsp?sid=t500&m=6&y=2014
X-ALT-DESC;FMTTYPE=text/html:<div style="text-align: center\; color: rgb(0\, 0\, 0)\; line-height: normal\; font-family: Verdana\, Geneva\, Arial\, Helvetica\, sans-serif\; font-size: 12pt\;">\n<div>\n<div><span style="font-size: 12px\;">The DCDC is partnering with the Clinton LumberKings for&nbsp\;<br />\n&quot\;DeWitt Day&quot\;&nbsp\;</span></div>\n\n<div><span style="font-size: 12px\;">on&nbsp\;<span class="aBn" data-term="goog_299127854" style="top: -2px\; border-bottom-color: rgb(204\, 204\, 204)\; border-bottom-width: 1px\; border-bottom-style: dashed\; position: relative\; z-index: 0\;" tabindex="0"><span class="aQJ" style="top: 2px\; position: relative\; z-index: -1\;">Sunday\, June 8th</span></span>&nbsp\;</span></div>\n</div>\n</div>\n\n<div style="text-align: center\; color: rgb(0\, 0\, 0)\; line-height: normal\; font-family: Verdana\, Geneva\, Arial\, Helvetica\, sans-serif\; font-size: 12pt\;"><span style="font-size: 12px\;">at Ashford University Field</span></div>\n\n<div style="text-align: center\; color: rgb(0\, 0\, 0)\; line-height: normal\; font-family: Verdana\, Geneva\, Arial\, Helvetica\, sans-serif\; font-size: 12pt\;"><span style="font-size: 12px\;">&nbsp\;</span></div>\n\n<div style="text-align: center\; color: rgb(0\, 0\, 0)\; line-height: normal\; font-family: Verdana\, Geneva\, Arial\, Helvetica\, sans-serif\; font-size: 12pt\;"><span style="font-size: 12px\;">The DCDC office has 100 FREE General Admissions tickets available for pick up (please limit 4 tickets per person)</span></div>\n\n<div style="text-align: center\; color: rgb(0\, 0\, 0)\; line-height: normal\; font-family: Verdana\, Geneva\, Arial\, Helvetica\, sans-serif\; font-size: 12pt\;"><span style="font-size: 12px\;">&nbsp\;</span></div>\n\n<div style="text-align: center\; color: rgb(0\, 0\, 0)\; line-height: normal\; font-family: Verdana\, Geneva\, Arial\, Helvetica\, sans-serif\; font-size: 12pt\;"><span style="font-size: 12px\;">The game begins at&nbsp\;<span class="aBn" data-term="goog_299127855" style="top: -2px\; border-bottom-color: rgb(204\, 204\, 204)\; border-bottom-width: 1px\; border-bottom-style: dashed\; position: relative\; z-index: 0\;" tabindex="0"><span class="aQJ" style="top: 2px\; position: relative\; z-index: -1\;">2pm</span></span>\, gates open at&nbsp\;<span class="aBn" data-term="goog_299127856" style="top: -2px\; border-bottom-color: rgb(204\, 204\, 204)\; border-bottom-width: 1px\; border-bottom-style: dashed\; position: relative\; z-index: 0\;" tabindex="0"><span class="aQJ" style="top: 2px\; position: relative\; z-index: -1\;">12:30pm</span></span>&nbsp\;</span></div>\n\n<div style="text-align: center\; color: rgb(0\, 0\, 0)\; line-height: normal\; font-family: Verdana\, Geneva\, Arial\, Helvetica\, sans-serif\; font-size: 12pt\;">&nbsp\;</div>\n\n<div style="text-align: center\; color: rgb(0\, 0\, 0)\; line-height: normal\; font-family: Verdana\, Geneva\, Arial\, Helvetica\, sans-serif\; font-size: 12pt\;"><span style="font-size: 12px\;">Rain date for the event is Thursday\, June 12</span></div>\n\n<div style="text-align: center\; color: rgb(0\, 0\, 0)\; line-height: normal\; font-family: Verdana\, Geneva\, Arial\, Helvetica\, sans-serif\; font-size: 12pt\;"><span style="font-size: 12px\;">with a&nbsp\;<span class="aBn" data-term="goog_299127858" style="top: -2px\; border-bottom-color: rgb(204\, 204\, 204)\; border-bottom-width: 1px\; border-bottom-style: dashed\; position: relative\; z-index: 0\;" tabindex="0"><span class="aQJ" style="top: 2px\; position: relative\; z-index: -1\;">6:30pm</span></span>&nbsp\;start time&nbsp\;and gates opening at&nbsp\;<span class="aBn" data-term="goog_299127859" style="top: -2px\; border-bottom-color: rgb(204\, 204\, 204)\; border-bottom-width: 1px\; border-bottom-style: dashed\; position: relative\; z-index: 0\;" tabindex="0"><span class="aQJ" style="top: 2px\; position: relative\; z-index: -1\;">5:00pm</span></span>&nbsp\;</span></div>\n\n<div style="text-align: center\; color: rgb(128\, 0\, 0)\; line-height: normal\; font-family: arial\, sans-serif\; font-size: 12pt\;"><span style="font-size: 12px\;"><span style="color: rgb(0\, 0\, 0)\; font-family: Verdana\, Geneva\, Arial\, Helvetica\, sans-serif\;">&nbsp\;</span></span></div>\n\n<div style="text-align: center\; color: rgb(128\, 0\, 0)\; line-height: normal\; font-family: arial\, sans-serif\; font-size: 12pt\;"><span style="font-size: 12px\;"><span style="color: rgb(0\, 0\, 0)\; font-family: Verdana\, Geneva\, Arial\, Helvetica\, sans-serif\;">To see the entire LumberKings schedule\, check out their website&nbsp\;</span><a href="http://r20.rs6.net/tn.jsp?f=001V8d7dAYjP4j1HUKG-VdqFCeOfsGPzUdRBE6UYbE0MwR-EK7CUt4Rgm-dClqk1Kfrjptvw0QK-S5vHAju5tXb5CFwl6BewHhZxJLIVt3WH9XEALXHRNSI2e6uk_BL0H0d3kQrfWcaj863LDP09YV-9sYT1lLxj1trYU9mUbSGX_fylaat5-xitQoQlOnkXCHW-9EAX6yqisMbf8c9gGj7z3xP4Xp5QHBWKlwsF82Ef7I=&amp\;c=&amp\;ch=" shape="rect" style="color: rgb(0\, 0\, 0)\; font-family: Verdana\, Geneva\, Arial\, Helvetica\, sans-serif\; font-size: 12pt\;" target="_blank">http://www.milb.com/schedule/<wbr />index.jsp?sid=t500&amp\;m=6&amp\;y=2014</a></span></div>\n
LOCATION:
UID:e.1774.70
SEQUENCE:3
DTSTAMP:20260422T041936Z
URL:https://business.dewittiowa.org/events/details/clinton-lumberkings-dewitt-day-06-08-2014-70
END:VEVENT

END:VCALENDAR
