BEGIN:VCALENDAR
VERSION:2.0
PRODID:-//ChamberMaster//Event Calendar 2.0//EN
METHOD:PUBLISH
X-PUBLISHED-TTL:P3D
REFRESH-INTERVAL:P3D
CALSCALE:GREGORIAN
BEGIN:VEVENT
DTSTART:20160612T180000Z
DTEND:20160612T220000Z
X-MICROSOFT-CDO-ALLDAYEVENT:FALSE
SUMMARY:Clinton LumberKings "DeWitt Day"
DESCRIPTION:The DCDC is partnering with the Clinton LumberKings for \n\n"DeWitt Day" \n\non Sunday\, June 12th \n\n\n\nat Ashford University Field\n\n \n\nMore information to come!\n\n \n\nCheck out the entire LumberKings schedule on the LumberKings website
X-ALT-DESC;FMTTYPE=text/html:<div style="text-align: center\; color: rgb(0\, 0\, 0)\; line-height: normal\; font-family: Verdana\, Geneva\, Arial\, Helvetica\, sans-serif\; font-size: 12pt\;">\n<div>\n<div><span style="font-size: 12px\;">The DCDC is partnering with the Clinton LumberKings for&nbsp\;<br />\n&quot\;DeWitt Day&quot\;&nbsp\;</span></div>\n\n<div><span style="font-size: 12px\;">on&nbsp\;<span class="aBn" data-term="goog_299127854" style="top: -2px\; border-bottom-color: rgb(204\, 204\, 204)\; border-bottom-width: 1px\; border-bottom-style: dashed\; position: relative\; z-index: 0\;" tabindex="0"><span class="aQJ" style="top: 2px\; position: relative\; z-index: -1\;">Sunday\, June 12th</span></span>&nbsp\;</span></div>\n</div>\n</div>\n\n<div style="text-align: center\; color: rgb(0\, 0\, 0)\; line-height: normal\; font-family: Verdana\, Geneva\, Arial\, Helvetica\, sans-serif\; font-size: 12pt\;"><span style="font-size: 12px\;">at Ashford University Field</span></div>\n\n<div style="text-align: center\; color: rgb(0\, 0\, 0)\; line-height: normal\; font-family: Verdana\, Geneva\, Arial\, Helvetica\, sans-serif\; font-size: 12pt\;"><span style="font-size: 12px\;">&nbsp\;</span></div>\n\n<div style="text-align: center\; color: rgb(0\, 0\, 0)\; line-height: normal\; font-family: Verdana\, Geneva\, Arial\, Helvetica\, sans-serif\; font-size: 12pt\;"><span style="font-size: 12px\;">More information to come!</span></div>\n\n<div style="text-align: center\; color: rgb(128\, 0\, 0)\; line-height: normal\; font-family: arial\, sans-serif\; font-size: 12pt\;"><span style="font-size: 12px\;"><span style="color: rgb(0\, 0\, 0)\; font-family: Verdana\, Geneva\, Arial\, Helvetica\, sans-serif\;">&nbsp\;</span></span></div>\n\n<div style="text-align: center\; color: rgb(128\, 0\, 0)\; line-height: normal\; font-family: arial\, sans-serif\; font-size: 12pt\;"><span style="font-size: 12px\;"><span style="color: rgb(0\, 0\, 0)\; font-family: Verdana\, Geneva\, Arial\, Helvetica\, sans-serif\;">Check out the entire LumberKings schedule on the&nbsp\;<a href="http://www.milb.com/schedule/index.jsp?sid=t500&amp\;m=6&amp\;y=2016">LumberKings&nbsp\;website</a>&nbsp\;</span></span></div>\n
LOCATION:
UID:e.1774.1168
SEQUENCE:3
DTSTAMP:20260420T122248Z
URL:https://business.dewittiowa.org/events/details/clinton-lumberkings-dewitt-day-06-12-2016-1168
END:VEVENT

END:VCALENDAR
