BEGIN:VCALENDAR
VERSION:2.0
PRODID:-//ChamberMaster//Event Calendar 2.0//EN
METHOD:PUBLISH
X-PUBLISHED-TTL:P3D
REFRESH-INTERVAL:P3D
CALSCALE:GREGORIAN
BEGIN:VEVENT
DTSTART:20170408T180000Z
DTEND:20170408T200000Z
X-MICROSOFT-CDO-ALLDAYEVENT:FALSE
SUMMARY:Clover Kids Super Saturday Clinton County Extension
DESCRIPTION:All kids in grades Pre K-3 and their parents/guardians are invited to come explore our Clover Kids Super Saturday! There will be stations with hands-on activities\, information on animal projects\, S.T.E.A.M. activities\, and an egg hunt.\n\n \n\nArrive at 1:00 pm at the South entrance of the Auditorium to receive your Clover activity punch card to complete as you visit the stations. Submit your punch card for a chance to win one of the prize baskets!\n\n \n\nSponsored by Clinton County Farm Bureau
X-ALT-DESC;FMTTYPE=text/html:<span style="font-size:16px"><span style="font-family:comic sans ms">All kids in grades Pre K-3 and their parents/guardians are invited to come explore our Clover Kids Super Saturday! There will be stations with hands-on activities\, information on animal projects\, S.T.E.A.M. activities\, and an egg hunt.<br />\n&nbsp\;<br />\nArrive at 1:00 pm at the South entrance of the Auditorium to receive your Clover activity punch card to complete as you visit the stations. Submit your punch card for a chance to win one of the prize baskets!</span></span><br />\n&nbsp\;<br />\n<em><span style="font-family:garamond">Sponsored by Clinton County Farm Bureau</span></em><br />\n&nbsp\;<br />\n&nbsp\;
LOCATION:Clinton County Fair Grounds Auditorium (south entrance)
UID:e.1774.1903
SEQUENCE:3
DTSTAMP:20260419T221355Z
URL:https://business.dewittiowa.org/events/details/clover-kids-super-saturday-clinton-county-extension-1903
END:VEVENT

END:VCALENDAR
