BEGIN:VCALENDAR
VERSION:2.0
PRODID:-//ChamberMaster//Event Calendar 2.0//EN
METHOD:PUBLISH
X-PUBLISHED-TTL:P3D
REFRESH-INTERVAL:P3D
CALSCALE:GREGORIAN
BEGIN:VEVENT
DTSTART:20160712T150000Z
DTEND:20160712T170000Z
X-MICROSOFT-CDO-ALLDAYEVENT:FALSE
SUMMARY:Color Me Happy...Color Me Calm
DESCRIPTION:Adult Coloring--all materials provided
X-ALT-DESC;FMTTYPE=text/html:Adult Coloring--all materials provided
LOCATION:Frances Banta Waggoner Community Library 505 10th St. DeWitt\, IA 52742
UID:e.1774.1365
SEQUENCE:3
DTSTAMP:20260420T105219Z
URL:https://business.dewittiowa.org/events/details/color-me-happy-color-me-calm-07-12-2016-1365
END:VEVENT

END:VCALENDAR
