BEGIN:VCALENDAR
VERSION:2.0
PRODID:-//ChamberMaster//Event Calendar 2.0//EN
METHOD:PUBLISH
X-PUBLISHED-TTL:P3D
REFRESH-INTERVAL:P3D
CALSCALE:GREGORIAN
BEGIN:VEVENT
DTSTART:20170730T020000Z
DTEND:20170729T050000Z
X-MICROSOFT-CDO-ALLDAYEVENT:FALSE
SUMMARY:Comedy Night
DESCRIPTION:Jorgies First Improv Comedy Night! Starts at 9pm! Join us early for dinner and drinks!
X-ALT-DESC;FMTTYPE=text/html:Jorgies First Improv Comedy Night! Starts at 9pm! Join us early for dinner and drinks!&nbsp\;
LOCATION:Jorgies Bar & Grill
UID:e.1774.3191
SEQUENCE:3
DTSTAMP:20260419T150155Z
URL:https://business.dewittiowa.org/events/details/comedy-night-3191
END:VEVENT

END:VCALENDAR
