BEGIN:VCALENDAR
VERSION:2.0
PRODID:-//ChamberMaster//Event Calendar 2.0//EN
METHOD:PUBLISH
X-PUBLISHED-TTL:P3D
REFRESH-INTERVAL:P3D
CALSCALE:GREGORIAN
BEGIN:VEVENT
DTSTART:20160428T120000Z
DTEND:20160429T000000Z
X-MICROSOFT-CDO-ALLDAYEVENT:FALSE
SUMMARY:Community Appreciation Day for Camp Courageous Donations
DESCRIPTION:To thank all of those in our community for their generous donations to Camp Courageous\, we're having a community appreciation day for both patients and non-patients to stop in and have a treat and drop off any last minute donations.\n\nWe have been accepting monetary donations along with other supplies listed on the Camp Courageous supply list which can be viewed by clicking on the following link (http://www.campcourageous.org/?page_id=1054)
X-ALT-DESC;FMTTYPE=text/html:To thank all of those in our community for their generous donations to Camp Courageous\, we&#39\;re having a community appreciation day for both patients and non-patients to stop in and have a treat and drop off any last minute donations.<br />\nWe have been accepting monetary donations along with other supplies listed on the Camp Courageous supply list which can be viewed by clicking on the following link (<a href="http://www.campcourageous.org/?page_id=1054">http://www.campcourageous.org/?page_id=1054</a>)
LOCATION:Hill Chiropractic Office\, P.C.
UID:e.1774.1326
SEQUENCE:3
DTSTAMP:20260420T152713Z
URL:https://business.dewittiowa.org/events/details/community-appreciation-day-for-camp-courageous-donations-04-28-2016-1326
END:VEVENT

END:VCALENDAR
