BEGIN:VCALENDAR
VERSION:2.0
PRODID:-//ChamberMaster//Event Calendar 2.0//EN
METHOD:PUBLISH
X-PUBLISHED-TTL:P3D
REFRESH-INTERVAL:P3D
CALSCALE:GREGORIAN
BEGIN:VEVENT
DTSTART:20170420T120000Z
DTEND:20170421T220000Z
X-MICROSOFT-CDO-ALLDAYEVENT:FALSE
SUMMARY:Community Appreciation Frame Show
DESCRIPTION:Join us for our SWEETEST deals of the year!\n\nDeals/Benefits:\n\n- FREE FRAMES (street\, office\, sunglasses\, etc.) with purchase of lenses*\n\n- 20% of non-prescription sunwear\n\n- Additional pairs = additional drawing for added savings\n\n- Expanded frame options from designers such as Timex\, Lilly Pulitzer\, and Kenzie\n\n- Local goodies from Whisk Away Cafe & Bakery and festive decor from Flowers On The Side\n\n\n**We welcome outside prescriptions!**\n\n563.659.2020\n\n1107 9th Ave. DeWitt\, IA\n\ndewitteyecare.com\n\n*up to $150 value\, some restrictions apply\, cannot be combined with insurance or other discounts
X-ALT-DESC;FMTTYPE=text/html:<p>Join us for our SWEETEST deals of the year!</p>\n\n<p>Deals/Benefits:<br>\n- FREE FRAMES (street\, office\, sunglasses\, etc.) with purchase of lenses*<br>\n<span style="font-family:inherit">- 20% of non-prescription sunwear<br>\n- Additional pairs = additional drawing for added savings<br>\n- Expanded frame options from designers such as Timex\, Lilly Pulitzer\, and Kenzie<br>\n- Local goodies from&nbsp\;<a class="profileLink" href="https://www.facebook.com/whiskaway/" style="color: rgb(54\, 88\, 153)\; cursor: pointer\; text-decoration-line: none\; font-family: inherit\;">Whisk Away Cafe &amp\; Bakery</a>&nbsp\;and festive decor from&nbsp\;<a class="profileLink" href="https://www.facebook.com/flowersontheside01/" style="color: rgb(54\, 88\, 153)\; cursor: pointer\; text-decoration-line: none\; font-family: inherit\;">Flowers On The Side</a></span></p>\n\n<div>\n<p>**We welcome outside prescriptions!**</p>\n\n<p>563.659.2020<br>\n1107 9th Ave. DeWitt\, IA<br>\n<a href="https://l.facebook.com/l.php?u=http%3A%2F%2Fdewitteyecare.com%2F&amp\;h=ATMGenNSYRZmzSmukWbsgRZHpChVz6i0T6iTZ83r9NzoiN9N_o_rXke1K8d9Fc0EwTb6y-gbc5rH3AgpR97i1mTHiHUi1uNhLifeWn3KK-231RVgfaNySzNaPI7Xmn8Y6vdZib5_dQ&amp\;enc=AZNGykr-CvAreNm51qEfND5q9ViMY1wvcIuLHAOf_cgAY2rpqs060vKYqo4GasBEBNfq_6ASaCG6a7l83L_OyFf9uSiDOrmvDgRl9gNGsGAzJsbsUcuXtrEGkHwgeCQ9sF8fu9qy4wDIgPhJ_KcxslSfBeKeh4KIbD1m36hHnJca9m5eihBkcODVqtzRGMAM45FJLh3A-RjI8SoHa6iH3Y3m&amp\;s=1" rel="nofollow noopener" style="color: rgb(54\, 88\, 153)\; cursor: pointer\; text-decoration-line: none\; font-family: inherit\;" target="_blank">dewitteyecare.com</a></p>\n\n<p>*up to $150 value\, some restrictions apply\, cannot be combined with insurance or other discounts</p>\n</div>\n
LOCATION:DeWitt Eyecare 1107 9th Ave DeWitt\, IA 52742
UID:e.1774.2971
SEQUENCE:3
DTSTAMP:20260419T201359Z
URL:https://business.dewittiowa.org/events/details/community-appreciation-frame-show-2971
END:VEVENT

END:VCALENDAR
