BEGIN:VCALENDAR
VERSION:2.0
PRODID:-//ChamberMaster//Event Calendar 2.0//EN
METHOD:PUBLISH
X-PUBLISHED-TTL:P3D
REFRESH-INTERVAL:P3D
CALSCALE:GREGORIAN
BEGIN:VEVENT
DTSTART;VALUE=DATE:20161012
DTEND;VALUE=DATE:20161013
TRANSP:TRANSPARENT
X-MICROSOFT-CDO-ALLDAYEVENT:TRUE
SUMMARY:Community Challenge for Pink for the Cure
DESCRIPTION:Our Pink for the Cure Community Challenge is set for the month of October.  If you are interested in the judging\,  please contact Robin Krogman. Judging will begin October 5-7 for those who have submitted applications.  We invite all businesses and residents to decorate in pink to honor and inform on breast cancer and the importance of early detection.
X-ALT-DESC;FMTTYPE=text/html:<span style="font-size:14px">Our Pink for the Cure Community Challenge is set for the month of October.&nbsp\; If you are interested in the judging\, &nbsp\;please contact Robin Krogman.&nbsp\;Judging will begin October 5-7 for those who have submitted applications.&nbsp\; We invite all businesses and residents to decorate in pink to honor and inform on breast cancer and the importance of early detection.</span>
LOCATION:DeWitt and surrounding areas.
UID:e.1774.1623
SEQUENCE:3
DTSTAMP:20260420T073918Z
URL:https://business.dewittiowa.org/events/details/community-challenge-for-pink-for-the-cure-10-12-2016-1623
END:VEVENT

END:VCALENDAR
