BEGIN:VCALENDAR
VERSION:2.0
PRODID:-//ChamberMaster//Event Calendar 2.0//EN
METHOD:PUBLISH
X-PUBLISHED-TTL:P3D
REFRESH-INTERVAL:P3D
CALSCALE:GREGORIAN
BEGIN:VEVENT
DTSTART:20160319T173000Z
DTEND:20160319T183000Z
X-MICROSOFT-CDO-ALLDAYEVENT:FALSE
SUMMARY:Community Easter Egg Hunt
DESCRIPTION:March 19\, 2016 12:30 Pictures 1:00 Hunt Bad Weather Date: 3/26/16
X-ALT-DESC;FMTTYPE=text/html:March 19\, 2016 12:30 Pictures 1:00 Hunt Bad Weather Date: 3/26/16
LOCATION:Central DeWitt HS/MS Outdoor Sports Complex\, DeWitt
UID:e.1774.1253
SEQUENCE:3
DTSTAMP:20260420T170702Z
URL:https://business.dewittiowa.org/events/details/community-easter-egg-hunt-03-19-2016-1253
END:VEVENT

END:VCALENDAR
