BEGIN:VCALENDAR
VERSION:2.0
PRODID:-//ChamberMaster//Event Calendar 2.0//EN
METHOD:PUBLISH
X-PUBLISHED-TTL:P3D
REFRESH-INTERVAL:P3D
CALSCALE:GREGORIAN
BEGIN:VEVENT
DTSTART:20150328T173000Z
DTEND:20150328T180000Z
X-MICROSOFT-CDO-ALLDAYEVENT:FALSE
SUMMARY:Community Easter Egg Hunt
DESCRIPTION:First Central State Bank and Iowa Mutual Insurance Company invite you to come join and in the fun! Bring along your camera for pictures with the Easter Bunny and Packy Panda. Pictures start at 12:30. ONE GRAND PRIZE presented per age group. Easter Egg Hunt will start PROMPTLY at 1:00. AGE GROUPS: 1-2 yr olds\, 3-4 yr olds\, 5-6 yr olds\, 7-9 yr olds
X-ALT-DESC;FMTTYPE=text/html:First Central State Bank and Iowa Mutual Insurance Company invite you to come join and in the fun! Bring along your camera for pictures with the Easter Bunny and Packy Panda. Pictures start at 12:30. ONE GRAND PRIZE presented per age group. Easter Egg Hunt will start PROMPTLY at 1:00. AGE GROUPS: 1-2 yr olds\, 3-4 yr olds\, 5-6 yr olds\, 7-9 yr olds
LOCATION:Central HS/MS Outdoor Sports Complex\, DeWitt IA (Football Field)
UID:e.1774.324
SEQUENCE:3
DTSTAMP:20260421T123718Z
URL:https://business.dewittiowa.org/events/details/community-easter-egg-hunt-03-28-2015-324
END:VEVENT

END:VCALENDAR
