BEGIN:VCALENDAR
VERSION:2.0
PRODID:-//ChamberMaster//Event Calendar 2.0//EN
METHOD:PUBLISH
X-PUBLISHED-TTL:P3D
REFRESH-INTERVAL:P3D
CALSCALE:GREGORIAN
BEGIN:VEVENT
DTSTART:20170408T173000Z
DTEND:20170408T183000Z
X-MICROSOFT-CDO-ALLDAYEVENT:FALSE
SUMMARY:Community Easter Egg Hunt
DESCRIPTION:Community Easter Egg Hunt\n\n	Bring along your camera for pictures with the Easter Bunny & Packy Panda!  Pictures will start at 12:30.\n	Easter Egg Hunt will start PROMPTLY at 1:00.\n	Age Groups: 1-2 yr olds\, 3-4 yr olds\, 5-6 yr olds\, 7-9 yr olds
X-ALT-DESC;FMTTYPE=text/html:Community Easter Egg Hunt\n<ul>\n	<li>Bring along your camera for pictures with the Easter Bunny &amp\; Packy Panda! &nbsp\;Pictures will start at 12:30.</li>\n	<li>Easter Egg Hunt will start PROMPTLY at 1:00.</li>\n	<li>Age Groups: 1-2 yr olds\, 3-4 yr olds\, 5-6 yr olds\, 7-9 yr olds</li>\n</ul>\n
LOCATION:Central DeWitt HS/MS Outdoor Sports Complex\, DeWitt
UID:e.1774.1885
SEQUENCE:3
DTSTAMP:20260419T201111Z
URL:https://business.dewittiowa.org/events/details/community-easter-egg-hunt-1885
END:VEVENT

END:VCALENDAR
