BEGIN:VCALENDAR
VERSION:2.0
PRODID:-//ChamberMaster//Event Calendar 2.0//EN
METHOD:PUBLISH
X-PUBLISHED-TTL:P3D
REFRESH-INTERVAL:P3D
CALSCALE:GREGORIAN
BEGIN:VEVENT
DTSTART;VALUE=DATE:20141127
DTEND;VALUE=DATE:20141128
TRANSP:TRANSPARENT
X-MICROSOFT-CDO-ALLDAYEVENT:TRUE
SUMMARY:Community Thanksgiving Dinner
DESCRIPTION:Community Thanksgiving Dinner\n\n\n\nIf you are interested in donating a turkey\, corn or dessert\, please contact Fred at 659-9894.
X-ALT-DESC;FMTTYPE=text/html:<br />\n<span style="font-size:22px\;">Community Thanksgiving Dinner</span><br />\n<br />\n<span style="font-size: 18px\; line-height: 28.7999992370605px\;">If you are interested in donating a turkey\, corn or dessert\, please contact Fred at 659-9894.</span>
LOCATION:KC Hall 613 10th St. DeWitt\, IA
UID:e.1774.234
SEQUENCE:3
DTSTAMP:20260421T190021Z
URL:https://business.dewittiowa.org/events/details/community-thanksgiving-dinner-11-27-2014-234
END:VEVENT

END:VCALENDAR
