BEGIN:VCALENDAR
VERSION:2.0
PRODID:-//ChamberMaster//Event Calendar 2.0//EN
METHOD:PUBLISH
X-PUBLISHED-TTL:P3D
REFRESH-INTERVAL:P3D
CALSCALE:GREGORIAN
BEGIN:VEVENT
DTSTART:20161124T180000Z
DTEND:20161124T210000Z
X-MICROSOFT-CDO-ALLDAYEVENT:FALSE
SUMMARY:Community Thanksgiving Dinner
DESCRIPTION:Dinner served at noon.\n\nFor donations please call 563-659-9894\,\n\nRSVP 563-659-9612.
X-ALT-DESC;FMTTYPE=text/html:Dinner served at noon.<br />\nFor donations please call 563-659-9894\,<br />\nRSVP 563-659-9612.
LOCATION:DeWitt Community Center 512 10th St. DeWitt\, IA
UID:e.1774.1697
SEQUENCE:3
DTSTAMP:20260420T042949Z
URL:https://business.dewittiowa.org/events/details/community-thanksgiving-dinner-1697
END:VEVENT

END:VCALENDAR
