BEGIN:VCALENDAR
VERSION:2.0
PRODID:-//ChamberMaster//Event Calendar 2.0//EN
METHOD:PUBLISH
X-PUBLISHED-TTL:P3D
REFRESH-INTERVAL:P3D
CALSCALE:GREGORIAN
BEGIN:VEVENT
DTSTART:20151212T170000Z
DTEND:20151212T180000Z
X-MICROSOFT-CDO-ALLDAYEVENT:FALSE
SUMMARY:Cookies & Carols with Bella Canta
DESCRIPTION:Bella Canta is a small ensemble of women singing music from Renaissance to contemporary eras\, both a cappella and accompanied. Bella Canta means "beautiful music" in Italian.
X-ALT-DESC;FMTTYPE=text/html:Bella Canta is a small ensemble of women singing music from Renaissance to contemporary eras\, both a cappella and accompanied. Bella Canta means &quot\;beautiful music&quot\; in Italian.
LOCATION:Frances Banta Waggoner Community Library
UID:e.1774.1159
SEQUENCE:3
DTSTAMP:20260420T220802Z
URL:https://business.dewittiowa.org/events/details/cookies-carols-with-bella-canta-12-12-2015-1159
END:VEVENT

END:VCALENDAR
