BEGIN:VCALENDAR
VERSION:2.0
PRODID:-//ChamberMaster//Event Calendar 2.0//EN
METHOD:PUBLISH
X-PUBLISHED-TTL:P3D
REFRESH-INTERVAL:P3D
CALSCALE:GREGORIAN
BEGIN:VEVENT
DTSTART:20151018T150000Z
DTEND:20151018T173000Z
X-MICROSOFT-CDO-ALLDAYEVENT:FALSE
SUMMARY:Cornerstone Baptist Church DeWitt 2nd Anniversary
DESCRIPTION:Come enjoy our worship service outside at Lincoln Park @ 10:00 a.m. followed by a complimentary BBQ lunch.
X-ALT-DESC;FMTTYPE=text/html:Come enjoy our worship service outside at Lincoln Park @ 10:00 a.m. followed by a complimentary BBQ lunch.
LOCATION:Lincoln Park
UID:e.1774.1081
SEQUENCE:3
DTSTAMP:20260421T012926Z
URL:https://business.dewittiowa.org/events/details/cornerstone-baptist-church-dewitt-2nd-anniversary-10-18-2015-1081
END:VEVENT

END:VCALENDAR
