BEGIN:VCALENDAR
VERSION:2.0
PRODID:-//ChamberMaster//Event Calendar 2.0//EN
METHOD:PUBLISH
X-PUBLISHED-TTL:P3D
REFRESH-INTERVAL:P3D
CALSCALE:GREGORIAN
BEGIN:VEVENT
DTSTART:20170722T173000Z
DTEND:20170722T233000Z
X-MICROSOFT-CDO-ALLDAYEVENT:FALSE
SUMMARY:Costume Golf Outing - Springbrook Country Club - OPEN TO THE PUBLIC
DESCRIPTION:OPEN TO THE PUBLIC\n\nCostume Golf Outing (formerly Jimmy Buffett) \n\nSaturday\, July 22nd 2017\n\n12:30 Shotgun Start\n\nLunch Buffet available starting at 11:00 a.m.\n\nCost: $70 per couple (will include golf\, prizes\, and dinner after the round)\n\nCart Rental: $30 per couple if needed (cart rental needs to be included with registration)\n\n\n\nPlease fill out the entry form and mail a check for your 3 couples ($180) to:\n\nBen Froeschle\n\n1929 Northridge Road\n\nDeWitt\, IA 52742\n\nMake check payable to Springbrook Country Club\n\n\n\nCostumes encouraged but not required!  Prizes will be awarded for best-dressed teams!\n\n\n\nENTRY FORM\n\nCostume Golf Outing Registration Form\n\n \n\nTeam Name:\n\n \n\nTeam Members:\n\n \n\nNumber of rental carts needed (if any):\n\n \n\nIndicate here if another group you would like to play with:
X-ALT-DESC;FMTTYPE=text/html:<span style="background-color:rgb(255\, 255\, 255)\; color:rgb(75\, 79\, 86)\; font-family:helvetica\,arial\,sans-serif\; font-size:14px">OPEN TO THE PUBLIC<br />\nCostume Golf Outing&nbsp\;</span><span style="background-color:rgb(255\, 255\, 255)\; color:rgb(75\, 79\, 86)\; font-family:helvetica\,arial\,sans-serif\; font-size:14px">(formerly Jimmy Buffett)&nbsp\;</span><br />\n<span style="background-color:rgb(255\, 255\, 255)\; color:rgb(75\, 79\, 86)\; font-family:helvetica\,arial\,sans-serif\; font-size:14px">Saturday\, July 22nd 2017</span><br />\n<span style="background-color:rgb(255\, 255\, 255)\; color:rgb(75\, 79\, 86)\; font-family:helvetica\,arial\,sans-serif\; font-size:14px">12:30 Shotgun Start<br />\nLunch Buffet available starting at 11:00 a.m.<br />\nCost: $70 per couple (will include golf\, prizes\, and dinner after the round)<br />\nCart Rental: $30 per couple if needed (cart rental needs to be included with registration)<br />\n<br />\nPlease fill out the entry form and mail a check for your 3 couples ($180) to:<br />\nBen Froeschle<br />\n1929 Northridge Road<br />\nDeWitt\, IA 52742<br />\nMake check payable to Springbrook Country Club<br />\n<br />\nCostumes encouraged but not required! &nbsp\;Prizes will be awarded for best-dressed teams!</span><br />\n<br />\nENTRY FORM<br />\n<strong><span style="font-size:26.0pt">Costume Golf Outing Registration Form</span></strong><br />\n&nbsp\;<br />\n<span style="font-size:14.0pt">Team Name:</span><br />\n&nbsp\;<br />\n<span style="font-size:14.0pt">Team Members:</span><br />\n&nbsp\;<br />\n<span style="font-size:14.0pt">Number of rental carts needed (if any):</span><br />\n&nbsp\;<br />\n<span style="font-size:14.0pt">Indicate here if another group you would like to play with:</span><br />\n&nbsp\;
LOCATION:Springbrook Country Club
UID:e.1774.3171
SEQUENCE:3
DTSTAMP:20260419T152940Z
URL:https://business.dewittiowa.org/events/details/costume-golf-outing-springbrook-country-club-3171
END:VEVENT

END:VCALENDAR
